BEGIN:VCALENDAR
VERSION:2.0
PRODID:-//wp-events-plugin.com//6.4.6.4//EN
BEGIN:VEVENT
UID:73@ticketboxevents.com
DTSTART;TZID=America/Nassau:20260107T144400
DTEND;TZID=America/Nassau:20260401T184400
DTSTAMP:20260314T033130Z
URL:https://www.ticketboxevents.com/events/bahamas-masqueraders-enchanted-
 costume-reservations/
SUMMARY:Bahamas Masqueraders “Enchanted”: Costume Reservations
DESCRIPTION:Bahamas Masqueraders “Enchanted”: Costume Reservations\n\n\
 n\nClick Here to Buy Tickets 
ATTACH;FMTTYPE=image/jpeg:https://www.ticketboxevents.com/wp-content/uploa
 ds/2026/01/5280.jpeg
END:VEVENT
BEGIN:VTIMEZONE
TZID:America/Nassau
X-LIC-LOCATION:America/Nassau
BEGIN:STANDARD
DTSTART:20251102T010000
TZOFFSETFROM:-0400
TZOFFSETTO:-0500
TZNAME:EST
END:STANDARD
BEGIN:DAYLIGHT
DTSTART:20260308T030000
TZOFFSETFROM:-0500
TZOFFSETTO:-0400
TZNAME:EDT
END:DAYLIGHT
END:VTIMEZONE
END:VCALENDAR