BEGIN:VCALENDAR
VERSION:2.0
PRODID:-//wp-events-plugin.com//6.4.6.4//EN
BEGIN:VEVENT
UID:65@ticketboxevents.com
DTSTART;TZID=America/Nassau:20250731T183000
DTEND;TZID=America/Nassau:20250731T220000
DTSTAMP:20250707T155151Z
URL:https://www.ticketboxevents.com/events/bcfa-calligraphy-and-wine-tasti
 ng-event-2025/
SUMMARY:BCFA Calligraphy and Wine Tasting Event 2025
DESCRIPTION:Come join the Bahamas China Friendship Association for our thir
 d (3rd) annual Calligraphy & Wine Tasting Event.  Learn the basics of the 
 Chinese language (Spoken and Calligraphy)\, and how to write Bahamian phra
 ses using Chinese traditional Characters.  This event includes a large sel
 ection of wines (“all you can drink”) from our exclusive wine partner\
 , delicious food\, interactive games\, door prizes\, and a silent art auct
 ion for a painting by a young Bahamian artist.\n\n\n\nClick Here to Buy Ti
 ckets 
ATTACH;FMTTYPE=image/jpeg:https://www.ticketboxevents.com/wp-content/uploa
 ds/2025/07/TicketBox-inside.jpg
LOCATION:https://maps.app.goo.gl/wgHdG71yB1hwSGraA
END:VEVENT
BEGIN:VTIMEZONE
TZID:America/Nassau
X-LIC-LOCATION:America/Nassau
BEGIN:DAYLIGHT
DTSTART:20250309T030000
TZOFFSETFROM:-0500
TZOFFSETTO:-0400
TZNAME:EDT
END:DAYLIGHT
END:VTIMEZONE
END:VCALENDAR