BEGIN:VCALENDAR
VERSION:2.0
PRODID:-//wp-events-plugin.com//6.4.6.4//EN
BEGIN:VEVENT
UID:71@ticketboxevents.com
DTSTART;TZID=America/Nassau:20251018T190000
DTEND;TZID=America/Nassau:20251018T213000
DTSTAMP:20251002T165018Z
URL:https://www.ticketboxevents.com/events/d6-project-we-are-not-okay/
SUMMARY:D6 Project: We Are Not Okay
DESCRIPTION:D6 Project: We Are Not Okay\nStart Date: 18 Oct 2025\, 07:00 PM
 \nEnd Date: 18 Oct 2025\, 09:30 PM\nLocation: Atlantis Theatre - Paradise 
 Island $4 off Atlantis valet parking with movie ticket presentation.\n\n\n
 The premiere of “D6 Project: We Are Not Okay” from award-winning filmm
 aker Juliette Storr features the powerful stories of countless survivors o
 f Hurricane Dorian and the importance of disaster mental health. The film 
 has received 8 international awards and recognitions.\n\nTrailer: https://
 youtu.be/jLP667DMin4 \n\n\n\n\nVIP Red Carpet Reception\nStart time: 6:00 
 pm – 6:45 pm\nOpening &amp\; Movie: 7:00 pm – 9:30 pm\n\nGeneral Admis
 sion\nOpening &amp\; Movie: 7:00 pm– 9:30 pm\n\nStudent Admission (Vali
 d ID required)\nOpening &amp\; Movie: 7:00 pm– 9:30 pm\n\nAssigned Admi
 ssion (Valid ID required)\nOpening &amp\; Movie: 7:00 pm– 9:30 pm\n\n\n
 \nClick Here to Buy Tickets \n\n\n\n
ATTACH;FMTTYPE=image/jpeg:https://www.ticketboxevents.com/wp-content/uploa
 ds/2025/10/Banner-2.jpeg
CATEGORIES:Upcoming
END:VEVENT
BEGIN:VTIMEZONE
TZID:America/Nassau
X-LIC-LOCATION:America/Nassau
BEGIN:DAYLIGHT
DTSTART:20250309T030000
TZOFFSETFROM:-0500
TZOFFSETTO:-0400
TZNAME:EDT
END:DAYLIGHT
END:VTIMEZONE
END:VCALENDAR