BEGIN:VCALENDAR
VERSION:2.0
PRODID:-//wp-events-plugin.com//6.4.6.4//EN
BEGIN:VEVENT
UID:62@ticketboxevents.com
DTSTART;TZID=America/Nassau:20250614T110000
DTEND;TZID=America/Nassau:20250614T180000
DTSTAMP:20250517T182219Z
URL:https://www.ticketboxevents.com/events/da-greasy-pit/
SUMMARY:Da Greasy Pit
DESCRIPTION:Come join the men of Omega Psi Phi fraternity Inc. Pi Xi Chapte
 r at it’s Greasy Pit Cookout. The menu includes Chicken\, Steak\, and Sa
 lmon served with a bake potato\, corn\, and dinner roll.  Drinks are avail
 able for sale. This event includes Live Music\, vendor booths\, kids’ co
 rner\, prizes and more.  Come out to enjoy delicious food\, and celebrate 
 life with us.\n\n\n\nClick Here to Buy Tickets 
ATTACH;FMTTYPE=image/jpeg:https://www.ticketboxevents.com/wp-content/uploa
 ds/2025/05/Flyer_greasyPit-June2025.jpg
CATEGORIES:Upcoming
END:VEVENT
BEGIN:VTIMEZONE
TZID:America/Nassau
X-LIC-LOCATION:America/Nassau
BEGIN:DAYLIGHT
DTSTART:20250309T030000
TZOFFSETFROM:-0500
TZOFFSETTO:-0400
TZNAME:EDT
END:DAYLIGHT
END:VTIMEZONE
END:VCALENDAR