BEGIN:VCALENDAR
VERSION:2.0
PRODID:-//wp-events-plugin.com//6.4.6.4//EN
BEGIN:VEVENT
UID:56@ticketboxevents.com
DTSTART;TZID=America/Nassau:20250605T210000
DTEND;TZID=America/Nassau:20250606T040000
DTSTAMP:20250327T104733Z
URL:https://www.ticketboxevents.com/events/dutty-time-machine/
SUMMARY:Dutty Time Machine
DESCRIPTION:Hop on the “Dutty Time Machine” and ravel to your favourite
  decade. from the stone age to the future\, and everything in between…. 
 the sky’s the limit. Be sure to select your T-Shirt size\, a single T-sh
 irt is included with each ticket purchase. This means if you purchase two 
 (2) tickets\, you should select two (2) T-Shirts\, be sure to select your 
 correct size.\n\n\n\n\nClick Here to Buy Tickets 
ATTACH;FMTTYPE=image/jpeg:https://www.ticketboxevents.com/wp-content/uploa
 ds/2025/03/TicketBox-inside-3.jpg
LOCATION:https://maps.app.goo.gl/BqcKqZUnDvYVrnFD7
END:VEVENT
BEGIN:VTIMEZONE
TZID:America/Nassau
X-LIC-LOCATION:America/Nassau
BEGIN:DAYLIGHT
DTSTART:20250309T030000
TZOFFSETFROM:-0500
TZOFFSETTO:-0400
TZNAME:EDT
END:DAYLIGHT
END:VTIMEZONE
END:VCALENDAR