BEGIN:VCALENDAR
VERSION:2.0
PRODID:-//wp-events-plugin.com//6.4.6.4//EN
BEGIN:VEVENT
UID:70@ticketboxevents.com
DTSTART;TZID=America/Nassau:20251116T190000
DTEND;TZID=America/Nassau:20251116T220000
DTSTAMP:20250918T093113Z
URL:https://www.ticketboxevents.com/events/events-with-opulence/
SUMMARY:Events With Opulence
DESCRIPTION:The Holi section is designed by Anthony Knowles \, and includes
  the following colors\; - ⁠ Magenta \, Blue \, Natural
ATTACH;FMTTYPE=image/jpeg:https://www.ticketboxevents.com/wp-content/uploa
 ds/2025/09/Ticket-Box-inside.jpg
CATEGORIES:Upcoming
LOCATION:Myles Munroe Diplomat Center\, Carmichael Road\, Nassau\, Bahamas
X-APPLE-STRUCTURED-LOCATION;VALUE=URI;X-ADDRESS=Carmichael Road\, Nassau\, 
 Bahamas;X-APPLE-RADIUS=100;X-TITLE=Myles Munroe Diplomat Center:geo:0,0
END:VEVENT
BEGIN:VTIMEZONE
TZID:America/Nassau
X-LIC-LOCATION:America/Nassau
BEGIN:STANDARD
DTSTART:20251102T010000
TZOFFSETFROM:-0400
TZOFFSETTO:-0500
TZNAME:EST
END:STANDARD
END:VTIMEZONE
END:VCALENDAR