BEGIN:VCALENDAR
VERSION:2.0
PRODID:-//wp-events-plugin.com//6.4.6.4//EN
BEGIN:VEVENT
UID:72@ticketboxevents.com
DTSTART;TZID=America/Nassau:20251226T200000
DTEND;TZID=America/Nassau:20251227T010000
DTSTAMP:20251224T142627Z
URL:https://www.ticketboxevents.com/events/final-fridays-2/
SUMMARY:Final Fridays
DESCRIPTION:Come party with the brothers of Omega Psi Phi at the newest and
  most scenic location in Nassau\, the “RoofTop” at the NEW Leno Corpor
 ate Offices\, top of the hill \, Collins Ave. Entertainment by DJ Fresh In
 ternational and DJ Bravo. Tickets include FREE Hors D’oeurves.\n\nClick 
 Here to Buy Tickets 
ATTACH;FMTTYPE=image/jpeg:https://www.ticketboxevents.com/wp-content/uploa
 ds/2025/12/FinalFriday-dec2025.jpeg
CATEGORIES:Upcoming
LOCATION:Leno Corporate Office\, Collins Ave.\, Nassau\, Nassau\, Bahamas
X-APPLE-STRUCTURED-LOCATION;VALUE=URI;X-ADDRESS=Collins Ave.\, Nassau\, Nas
 sau\, Bahamas;X-APPLE-RADIUS=100;X-TITLE=Leno Corporate Office:geo:0,0
END:VEVENT
BEGIN:VTIMEZONE
TZID:America/Nassau
X-LIC-LOCATION:America/Nassau
BEGIN:STANDARD
DTSTART:20251102T010000
TZOFFSETFROM:-0400
TZOFFSETTO:-0500
TZNAME:EST
END:STANDARD
END:VTIMEZONE
END:VCALENDAR