BEGIN:VCALENDAR
VERSION:2.0
PRODID:-//wp-events-plugin.com//6.4.6.4//EN
BEGIN:VEVENT
UID:66@ticketboxevents.com
DTSTART;TZID=America/Nassau:20250801T200000
DTEND;TZID=America/Nassau:20250802T150000
DTSTAMP:20250703T113223Z
URL:https://www.ticketboxevents.com/events/final-fridays-cruise-edition-20
 25/
SUMMARY:Final Fridays Cruise Edition 2025
DESCRIPTION:Come party with the Ques at Final Fridays Cruise Edition.  The 
 party is at the rooftop\, Leno Corporate Building\, Collins Avenue. Ticket
 s are $20 in advance and $30 at the door.\n\n\n\nClick Here to Buy Tickets
  
ATTACH;FMTTYPE=image/jpeg:https://www.ticketboxevents.com/wp-content/uploa
 ds/2025/07/Slider.jpg
LOCATION:https://maps.app.goo.gl/5aQEL76PSKGZYE1j9
END:VEVENT
BEGIN:VTIMEZONE
TZID:America/Nassau
X-LIC-LOCATION:America/Nassau
BEGIN:DAYLIGHT
DTSTART:20250309T030000
TZOFFSETFROM:-0500
TZOFFSETTO:-0400
TZNAME:EDT
END:DAYLIGHT
END:VTIMEZONE
END:VCALENDAR