BEGIN:VCALENDAR
VERSION:2.0
PRODID:-//wp-events-plugin.com//6.4.6.4//EN
BEGIN:VEVENT
UID:68@ticketboxevents.com
DTSTART;TZID=America/Nassau:20250803T120000
DTEND;TZID=America/Nassau:20250803T180000
DTSTAMP:20250703T114223Z
URL:https://www.ticketboxevents.com/events/greek-softball-tournament-2025/
SUMMARY:Greek Softball Tournament - 2025
DESCRIPTION:Come out for a family fun day and enjoy the Greek Softball Tour
 nament with the Ques. This tournament will be held at the Blue Hills Softb
 all Field and will feature teams from all the Greek Letter Organizations. 
 This is a family affair\, so bring out the young kids.  This is also a cha
 rity event\, ad we will be accepting school supplies and other goods for d
 istribution to needy families in The Bahamas. Tickets are $3 for Children 
 and $5 for Adults.\n\n\n\nClick Here to Buy Tickets 
ATTACH;FMTTYPE=image/jpeg:https://www.ticketboxevents.com/wp-content/uploa
 ds/2025/07/Slider.jpg
LOCATION:https://maps.app.goo.gl/7Uq8V7HZnS2uYiaC7
END:VEVENT
BEGIN:VTIMEZONE
TZID:America/Nassau
X-LIC-LOCATION:America/Nassau
BEGIN:DAYLIGHT
DTSTART:20250309T030000
TZOFFSETFROM:-0500
TZOFFSETTO:-0400
TZNAME:EDT
END:DAYLIGHT
END:VTIMEZONE
END:VCALENDAR