BEGIN:VCALENDAR
VERSION:2.0
PRODID:-//wp-events-plugin.com//6.4.6.4//EN
BEGIN:VEVENT
UID:67@ticketboxevents.com
DTSTART;TZID=America/Nassau:20250802T190000
DTEND;TZID=America/Nassau:20250803T010000
DTSTAMP:20250703T113834Z
URL:https://www.ticketboxevents.com/events/owt-to-sea-boar-cruise-2025/
SUMMARY:Owt to Sea Boar Cruise 2025
DESCRIPTION:Come Cruise with the Ques on our Owt to Sea Boat Cruise aboard 
 the Blackbeard’s Revenge. We will cruise Nassau’s harbour while partyi
 ng to the sounds of some of the best DJs the Bahamas has to offer. Tickets
  are $30 in advance and $35 at the door.\n\n\n\nClick Here to Buy Tickets 
ATTACH;FMTTYPE=image/jpeg:https://www.ticketboxevents.com/wp-content/uploa
 ds/2025/07/Slider.jpg
LOCATION:https://maps.app.goo.gl/hmQkQyJWA6gzTV9p9
END:VEVENT
BEGIN:VTIMEZONE
TZID:America/Nassau
X-LIC-LOCATION:America/Nassau
BEGIN:DAYLIGHT
DTSTART:20250309T030000
TZOFFSETFROM:-0500
TZOFFSETTO:-0400
TZNAME:EDT
END:DAYLIGHT
END:VTIMEZONE
END:VCALENDAR