BEGIN:VCALENDAR
VERSION:2.0
PRODID:-//wp-events-plugin.com//6.4.6.4//EN
BEGIN:VEVENT
UID:64@ticketboxevents.com
DTSTART;TZID=America/Nassau:20250804T073000
DTEND;TZID=America/Nassau:20250804T130000
DTSTAMP:20250626T084531Z
URL:https://www.ticketboxevents.com/events/pi-xi-chapter-2nd-annual-golf-t
 ournament/
SUMMARY:Pi Xi Chapter 2nd Annual Golf Tournament
DESCRIPTION:Come join the Brothers of Omega Psi Phi Fraternity Inc. Pi Xi C
 hapter for our 2nd Annual Golf Tournament to be held at the Royal Blue Go
 lf Club located at Bahamar Resort\, Cable Beach Nassau\, NP Bahamas.   A
 ll proceeds are in aid of Bro. Seab Blyden’s medical fund. Four (4) play
 er teams can register for $1\,200\, and individuals at $300. The cost incl
 udes green fees\, cart\, and after-tournament hor d’oeuvres. Same day re
 gistration is from 7:30am to 8:30am\; there will be a shotgun start at 9:0
 0am EST. Sponsorship opportunities are also available.\n\n\n\nClick Here t
 o Buy Tickets 
ATTACH;FMTTYPE=image/jpeg:https://www.ticketboxevents.com/wp-content/uploa
 ds/2025/06/TicketBox-inside-1.jpg
LOCATION:https://maps.app.goo.gl/YP4B4aeSf2BKG3dH6
END:VEVENT
BEGIN:VTIMEZONE
TZID:America/Nassau
X-LIC-LOCATION:America/Nassau
BEGIN:DAYLIGHT
DTSTART:20250309T030000
TZOFFSETFROM:-0500
TZOFFSETTO:-0400
TZNAME:EDT
END:DAYLIGHT
END:VTIMEZONE
END:VCALENDAR