BEGIN:VCALENDAR
VERSION:2.0
PRODID:-//wp-events-plugin.com//6.4.6.4//EN
BEGIN:VEVENT
UID:69@ticketboxevents.com
DTSTART;TZID=America/Nassau:20250804T120000
DTEND;TZID=America/Nassau:20250804T220000
DTSTAMP:20250703T114649Z
URL:https://www.ticketboxevents.com/events/purple-splash-beach-party-2025/
SUMMARY:Purple Splash Beach Party - 2025
DESCRIPTION:Come out and party with the Ques at our Purple Splash Beach Par
 ty on the August Monday Holiday.  This party will be held at Sulgrave Mano
 r\, Cable Beach\, located between Breezes Resort and Bahamar resort.  Come
  out with your friends and enjoy the summer sun on a beautiful beach party
 ing with your friends.  Tickets are $15. Food and drinks will be available
  for purchase.\n\n\n\nClick Here to Buy Tickets 
ATTACH;FMTTYPE=image/jpeg:https://www.ticketboxevents.com/wp-content/uploa
 ds/2025/07/Slider.jpg
LOCATION:https://maps.app.goo.gl/DQuY5FvCoexWHf8f9
END:VEVENT
BEGIN:VTIMEZONE
TZID:America/Nassau
X-LIC-LOCATION:America/Nassau
BEGIN:DAYLIGHT
DTSTART:20250309T030000
TZOFFSETFROM:-0500
TZOFFSETTO:-0400
TZNAME:EDT
END:DAYLIGHT
END:VTIMEZONE
END:VCALENDAR