BEGIN:VCALENDAR
VERSION:2.0
PRODID:-//wp-events-plugin.com//6.4.6.4//EN
BEGIN:VEVENT
UID:63@ticketboxevents.com
DTSTART;TZID=America/Nassau:20250531T190000
DTEND;TZID=America/Nassau:20250601T020000
DTSTAMP:20250522T120623Z
URL:https://www.ticketboxevents.com/events/sac-80th-anniversary-grand-reun
 ion-gala-ball/
SUMMARY:SAC 80th Anniversary Grand Reunion Gala Ball
DESCRIPTION:Under the patronage of Archbishop Patrick Pinder S.T.D\, C.M.C.
 \, K.C\, H. S.\; St. Augustine’s College presents the 80th Anniversary G
 rand reunion Gala to be held at the   Grand Hyatt Bahamar\, New Providence
  Ball Room on May 31st 2025. Cocktails at 7:00pm\, Dinner at 8:00pm\, and 
 Dress is Formal.  Live performance by the Essence Band.\n\n\n\nClick Here 
 to Buy Tickets 
ATTACH;FMTTYPE=image/jpeg:https://www.ticketboxevents.com/wp-content/uploa
 ds/2025/05/TicketBox-inside-3.jpg
CATEGORIES:Upcoming
END:VEVENT
BEGIN:VTIMEZONE
TZID:America/Nassau
X-LIC-LOCATION:America/Nassau
BEGIN:DAYLIGHT
DTSTART:20250309T030000
TZOFFSETFROM:-0500
TZOFFSETTO:-0400
TZNAME:EDT
END:DAYLIGHT
END:VTIMEZONE
END:VCALENDAR